Package: DNAfusion Version: 1.6.0 Command: /Library/Frameworks/R.framework/Resources/bin/R CMD check --install=check:DNAfusion.install-out.txt --library=/Library/Frameworks/R.framework/Resources/library --no-vignettes --timings DNAfusion_1.6.0.tar.gz StartedAt: 2024-06-10 14:07:46 -0400 (Mon, 10 Jun 2024) EndedAt: 2024-06-10 14:23:40 -0400 (Mon, 10 Jun 2024) EllapsedTime: 954.3 seconds RetCode: 0 Status: OK CheckDir: DNAfusion.Rcheck Warnings: 0