Package: DEScan2 Version: 1.24.0 Command: E:\biocbuild\bbs-3.19-bioc\R\bin\R.exe CMD INSTALL DEScan2 StartedAt: 2024-10-16 17:06:43 -0400 (Wed, 16 Oct 2024) EndedAt: 2024-10-16 17:08:55 -0400 (Wed, 16 Oct 2024) EllapsedTime: 131.7 seconds RetCode: 0 Status: OK