Package: DEScan2 Version: 1.24.0 Command: rm -rf DEScan2.buildbin-libdir && mkdir DEScan2.buildbin-libdir && E:\biocbuild\bbs-3.19-bioc\R\bin\R.exe CMD INSTALL --build --library=DEScan2.buildbin-libdir DEScan2_1.24.0.tar.gz StartedAt: 2024-10-17 07:41:00 -0400 (Thu, 17 Oct 2024) EndedAt: 2024-10-17 07:43:05 -0400 (Thu, 17 Oct 2024) EllapsedTime: 124.4 seconds RetCode: 0 Status: OK PackageFile: DEScan2_1.24.0.zip PackageFileSize: 2.831 MiB