Package: DECIPHER Version: 3.0.0 Command: /home/biocbuild/bbs-3.19-bioc/R/bin/R CMD INSTALL DECIPHER StartedAt: 2024-10-16 15:58:32 -0400 (Wed, 16 Oct 2024) EndedAt: 2024-10-16 15:59:26 -0400 (Wed, 16 Oct 2024) EllapsedTime: 53.8 seconds RetCode: 0 Status: OK