Package: DCATS Version: 1.2.0 Command: /home/biocbuild/R/R-beta-2024-04-15_r86425/bin/R CMD build --keep-empty-dirs --no-resave-data DCATS StartedAt: 2024-05-08 23:44:02 -0000 (Wed, 08 May 2024) EndedAt: 2024-05-08 23:44:21 -0000 (Wed, 08 May 2024) EllapsedTime: 19.0 seconds RetCode: 0 Status: OK PackageFile: DCATS_1.2.0.tar.gz PackageFileSize: 2.862 MiB