Package: CoreGx Version: 2.8.0 Command: /home/biocbuild/bbs-3.19-bioc/R/bin/R CMD check --install=check:CoreGx.install-out.txt --library=/home/biocbuild/bbs-3.19-bioc/R/site-library --timings CoreGx_2.8.0.tar.gz StartedAt: 2024-10-16 23:07:01 -0400 (Wed, 16 Oct 2024) EndedAt: 2024-10-16 23:14:15 -0400 (Wed, 16 Oct 2024) EllapsedTime: 434.0 seconds RetCode: 0 Status: OK CheckDir: CoreGx.Rcheck Warnings: 0