Package: CopyNumberPlots Version: 1.20.0 Command: rm -rf CopyNumberPlots.buildbin-libdir && mkdir CopyNumberPlots.buildbin-libdir && E:\biocbuild\bbs-3.19-bioc\R\bin\R.exe CMD INSTALL --build --library=CopyNumberPlots.buildbin-libdir CopyNumberPlots_1.20.0.tar.gz StartedAt: 2024-10-17 07:35:43 -0400 (Thu, 17 Oct 2024) EndedAt: 2024-10-17 07:37:02 -0400 (Thu, 17 Oct 2024) EllapsedTime: 79.4 seconds RetCode: 0 Status: OK PackageFile: CopyNumberPlots_1.20.0.zip PackageFileSize: 937 KiB