Package: CoCiteStats Version: 1.76.0 Command: E:\biocbuild\bbs-3.19-bioc\R\bin\R.exe CMD INSTALL CoCiteStats StartedAt: 2024-10-16 16:15:56 -0400 (Wed, 16 Oct 2024) EndedAt: 2024-10-16 16:16:14 -0400 (Wed, 16 Oct 2024) EllapsedTime: 18.3 seconds RetCode: 0 Status: OK