Package: CiteFuse Version: 1.16.0 Command: rm -rf CiteFuse.buildbin-libdir && mkdir CiteFuse.buildbin-libdir && /Users/biocbuild/BBS/utils/build-universal.sh CiteFuse_1.16.0.tar.gz /Library/Frameworks/R.framework/Resources/bin/R CiteFuse.buildbin-libdir StartedAt: 2024-10-18 17:48:15 -0400 (Fri, 18 Oct 2024) EndedAt: 2024-10-18 17:49:20 -0400 (Fri, 18 Oct 2024) EllapsedTime: 64.8 seconds RetCode: 0 Status: OK PackageFile: CiteFuse_1.16.0.tgz PackageFileSize: 3.619 MiB