Package: CircSeqAlignTk Version: 1.6.0 Command: /Library/Frameworks/R.framework/Resources/bin/R CMD INSTALL CircSeqAlignTk StartedAt: 2024-10-16 17:26:28 -0400 (Wed, 16 Oct 2024) EndedAt: 2024-10-16 17:27:22 -0400 (Wed, 16 Oct 2024) EllapsedTime: 53.9 seconds RetCode: 0 Status: OK