Package: ChIPQC Version: 1.40.0 Command: /home/biocbuild/R/R-beta-2024-04-15_r86425/bin/R CMD check --install=check:ChIPQC.install-out.txt --library=/home/biocbuild/R/R-beta-2024-04-15_r86425/site-library --no-vignettes --timings ChIPQC_1.40.0.tar.gz StartedAt: 2024-05-09 05:47:57 -0000 (Thu, 09 May 2024) EndedAt: 2024-05-09 05:56:33 -0000 (Thu, 09 May 2024) EllapsedTime: 516.0 seconds RetCode: 0 Status: WARNINGS CheckDir: ChIPQC.Rcheck Warnings: 1