Package: CexoR Version: 1.42.0 Command: /home/biocbuild/bbs-3.19-bioc/R/bin/R CMD check --install=check:CexoR.install-out.txt --library=/home/biocbuild/bbs-3.19-bioc/R/site-library --timings CexoR_1.42.0.tar.gz StartedAt: 2024-10-16 22:37:53 -0400 (Wed, 16 Oct 2024) EndedAt: 2024-10-16 22:43:16 -0400 (Wed, 16 Oct 2024) EllapsedTime: 322.7 seconds RetCode: 0 Status: OK CheckDir: CexoR.Rcheck Warnings: 0