Package: CancerInSilico Version: 2.24.0 Command: /Library/Frameworks/R.framework/Resources/bin/R CMD build --keep-empty-dirs --no-resave-data CancerInSilico StartedAt: 2024-10-16 17:42:12 -0400 (Wed, 16 Oct 2024) EndedAt: 2024-10-16 17:45:32 -0400 (Wed, 16 Oct 2024) EllapsedTime: 200.2 seconds RetCode: 0 Status: OK PackageFile: CancerInSilico_2.24.0.tar.gz PackageFileSize: 2.38 MiB