Package: CRISPRseek Version: 1.44.0 Command: /Library/Frameworks/R.framework/Resources/bin/R CMD INSTALL CRISPRseek StartedAt: 2024-10-16 16:42:25 -0400 (Wed, 16 Oct 2024) EndedAt: 2024-10-16 16:43:11 -0400 (Wed, 16 Oct 2024) EllapsedTime: 47.0 seconds RetCode: 0 Status: OK