Package: CRISPRseek Version: 1.44.0 Command: /Library/Frameworks/R.framework/Resources/bin/R CMD build --keep-empty-dirs --no-resave-data CRISPRseek StartedAt: 2024-10-16 22:23:40 -0400 (Wed, 16 Oct 2024) EndedAt: 2024-10-16 22:26:40 -0400 (Wed, 16 Oct 2024) EllapsedTime: 179.9 seconds RetCode: 0 Status: OK PackageFile: CRISPRseek_1.44.0.tar.gz PackageFileSize: 10.76 MiB