Package: CORREP Version: 1.70.0 Command: /home/biocbuild/bbs-3.19-bioc/R/bin/R CMD check --install=check:CORREP.install-out.txt --library=/home/biocbuild/bbs-3.19-bioc/R/site-library --timings CORREP_1.70.0.tar.gz StartedAt: 2024-10-16 23:07:37 -0400 (Wed, 16 Oct 2024) EndedAt: 2024-10-16 23:08:04 -0400 (Wed, 16 Oct 2024) EllapsedTime: 27.1 seconds RetCode: 1 Status: ERROR CheckDir: CORREP.Rcheck Warnings: NA