Package: CONFESS Version: 1.32.0 Command: rm -rf CONFESS.buildbin-libdir && mkdir CONFESS.buildbin-libdir && /Users/biocbuild/BBS/utils/build-universal.sh CONFESS_1.32.0.tar.gz /Library/Frameworks/R.framework/Resources/bin/R CONFESS.buildbin-libdir StartedAt: 2024-05-27 01:30:28 -0400 (Mon, 27 May 2024) EndedAt: 2024-05-27 01:32:18 -0400 (Mon, 27 May 2024) EllapsedTime: 110.2 seconds RetCode: 0 Status: OK PackageFile: CONFESS_1.32.0.tgz PackageFileSize: 3.124 MiB