Package: COHCAP Version: 1.49.0 Command: /Library/Frameworks/R.framework/Resources/bin/R CMD INSTALL COHCAP StartedAt: 2024-03-01 15:08:02 -0500 (Fri, 01 Mar 2024) EndedAt: 2024-03-01 15:09:00 -0500 (Fri, 01 Mar 2024) EllapsedTime: 58.1 seconds RetCode: 0 Status: OK