Package: COHCAP Version: 1.49.0 Command: /Library/Frameworks/R.framework/Resources/bin/R CMD build --keep-empty-dirs --no-resave-data COHCAP StartedAt: 2024-03-01 18:02:51 -0500 (Fri, 01 Mar 2024) EndedAt: 2024-03-01 18:04:10 -0500 (Fri, 01 Mar 2024) EllapsedTime: 78.5 seconds RetCode: 0 Status: OK PackageFile: COHCAP_1.49.0.tar.gz PackageFileSize: 235.9 KiB