Package: CNTools Version: 1.60.0 Command: chmod a+r CNTools -R && F:\biocbuild\bbs-3.19-bioc\R\bin\R.exe CMD build --keep-empty-dirs --no-resave-data CNTools StartedAt: 2024-06-26 17:54:30 -0400 (Wed, 26 Jun 2024) EndedAt: 2024-06-26 17:55:06 -0400 (Wed, 26 Jun 2024) EllapsedTime: 35.7 seconds RetCode: 0 Status: OK PackageFile: CNTools_1.60.0.tar.gz PackageFileSize: 867.6 KiB