Package: CNTools Version: 1.60.0 Command: /Library/Frameworks/R.framework/Resources/bin/R CMD build --keep-empty-dirs --no-resave-data CNTools StartedAt: 2024-06-09 16:14:34 -0400 (Sun, 09 Jun 2024) EndedAt: 2024-06-09 16:15:10 -0400 (Sun, 09 Jun 2024) EllapsedTime: 35.8 seconds RetCode: 0 Status: OK PackageFile: CNTools_1.60.0.tar.gz PackageFileSize: 958.3 KiB