Package: CNTools Version: 1.60.0 Command: rm -rf CNTools.buildbin-libdir && mkdir CNTools.buildbin-libdir && /Users/biocbuild/BBS/utils/build-universal.sh CNTools_1.60.0.tar.gz /Library/Frameworks/R.framework/Resources/bin/R CNTools.buildbin-libdir StartedAt: 2024-06-10 00:12:07 -0400 (Mon, 10 Jun 2024) EndedAt: 2024-06-10 00:12:36 -0400 (Mon, 10 Jun 2024) EllapsedTime: 28.0 seconds RetCode: 0 Status: OK PackageFile: CNTools_1.60.0.tgz PackageFileSize: 1.186 MiB