Package: CNORode Version: 1.46.0 Command: /Library/Frameworks/R.framework/Resources/bin/R CMD build --keep-empty-dirs --no-resave-data CNORode StartedAt: 2024-10-16 18:05:06 -0400 (Wed, 16 Oct 2024) EndedAt: 2024-10-16 18:06:21 -0400 (Wed, 16 Oct 2024) EllapsedTime: 75.3 seconds RetCode: 0 Status: OK PackageFile: CNORode_1.46.0.tar.gz PackageFileSize: 519.6 KiB