Package: CNORdt Version: 1.46.0 Command: chmod a+r CNORdt -R && F:\biocbuild\bbs-3.19-bioc\R\bin\R.exe CMD build --keep-empty-dirs --no-resave-data CNORdt StartedAt: 2024-06-26 17:54:03 -0400 (Wed, 26 Jun 2024) EndedAt: 2024-06-26 17:54:53 -0400 (Wed, 26 Jun 2024) EllapsedTime: 49.9 seconds RetCode: 0 Status: OK PackageFile: CNORdt_1.46.0.tar.gz PackageFileSize: 203.4 KiB