Package: CINdex Version: 1.32.0 Command: /Library/Frameworks/R.framework/Resources/bin/R CMD check --install=check:CINdex.install-out.txt --library=/Library/Frameworks/R.framework/Resources/library --no-vignettes --timings CINdex_1.32.0.tar.gz StartedAt: 2024-10-17 02:44:34 -0400 (Thu, 17 Oct 2024) EndedAt: 2024-10-17 02:49:28 -0400 (Thu, 17 Oct 2024) EllapsedTime: 293.7 seconds RetCode: 0 Status: WARNINGS CheckDir: CINdex.Rcheck Warnings: 1