Package: CGHnormaliter Version: 1.58.0 Command: /home/biocbuild/R/R-beta-2024-04-15_r86425/bin/R CMD build --keep-empty-dirs --no-resave-data CGHnormaliter StartedAt: 2024-05-08 23:13:16 -0000 (Wed, 08 May 2024) EndedAt: 2024-05-08 23:14:33 -0000 (Wed, 08 May 2024) EllapsedTime: 77.1 seconds RetCode: 0 Status: OK PackageFile: CGHnormaliter_1.58.0.tar.gz PackageFileSize: 1.237 MiB