Package: CBNplot Version: 1.4.2 Command: rm -rf CBNplot.buildbin-libdir && mkdir CBNplot.buildbin-libdir && /Users/biocbuild/BBS/utils/build-universal.sh CBNplot_1.4.2.tar.gz /Library/Frameworks/R.framework/Resources/bin/R CBNplot.buildbin-libdir StartedAt: 2024-10-17 15:47:39 -0400 (Thu, 17 Oct 2024) EndedAt: 2024-10-17 15:48:54 -0400 (Thu, 17 Oct 2024) EllapsedTime: 74.5 seconds RetCode: 0 Status: OK PackageFile: CBNplot_1.4.2.tgz PackageFileSize: 1.151 MiB