Package: CAGEr Version: 2.10.0 Command: /Library/Frameworks/R.framework/Resources/bin/R CMD INSTALL CAGEr StartedAt: 2024-10-16 17:24:19 -0400 (Wed, 16 Oct 2024) EndedAt: 2024-10-16 17:25:36 -0400 (Wed, 16 Oct 2024) EllapsedTime: 76.1 seconds RetCode: 0 Status: OK