Package: CAEN Version: 1.12.0 Command: /Library/Frameworks/R.framework/Resources/bin/R CMD build --keep-empty-dirs --no-resave-data CAEN StartedAt: 2024-10-16 17:39:37 -0400 (Wed, 16 Oct 2024) EndedAt: 2024-10-16 17:43:50 -0400 (Wed, 16 Oct 2024) EllapsedTime: 253.5 seconds RetCode: 0 Status: OK PackageFile: CAEN_1.12.0.tar.gz PackageFileSize: 988.5 KiB