Package: CAEN Version: 1.12.0 Command: /Library/Frameworks/R.framework/Resources/bin/R CMD INSTALL CAEN StartedAt: 2024-10-16 16:01:00 -0400 (Wed, 16 Oct 2024) EndedAt: 2024-10-16 16:01:25 -0400 (Wed, 16 Oct 2024) EllapsedTime: 24.6 seconds RetCode: 0 Status: OK