Package: Biostrings Version: 2.72.1 Command: /Library/Frameworks/R.framework/Resources/bin/R CMD check --install=check:Biostrings.install-out.txt --library=/Library/Frameworks/R.framework/Resources/library --no-vignettes --timings Biostrings_2.72.1.tar.gz StartedAt: 2024-10-17 14:11:39 -0400 (Thu, 17 Oct 2024) EndedAt: 2024-10-17 14:24:28 -0400 (Thu, 17 Oct 2024) EllapsedTime: 769.0 seconds RetCode: 0 Status: WARNINGS CheckDir: Biostrings.Rcheck Warnings: 1