Package: BiocVersion Version: 3.19.1 Command: E:\biocbuild\bbs-3.19-bioc\R\bin\R.exe CMD check --no-multiarch --install=check:BiocVersion.install-out.txt --library=E:\biocbuild\bbs-3.19-bioc\R\library --no-vignettes --timings BiocVersion_3.19.1.tar.gz StartedAt: 2024-10-16 23:15:37 -0400 (Wed, 16 Oct 2024) EndedAt: 2024-10-16 23:16:19 -0400 (Wed, 16 Oct 2024) EllapsedTime: 41.8 seconds RetCode: 0 Status: OK CheckDir: BiocVersion.Rcheck Warnings: 0