Package: BiocVersion Version: 3.19.1 Command: F:\biocbuild\bbs-3.19-bioc\R\bin\R.exe CMD check --no-multiarch --install=check:BiocVersion.install-out.txt --library=F:\biocbuild\bbs-3.19-bioc\R\library --no-vignettes --timings BiocVersion_3.19.1.tar.gz StartedAt: 2024-06-26 23:25:17 -0400 (Wed, 26 Jun 2024) EndedAt: 2024-06-26 23:26:03 -0400 (Wed, 26 Jun 2024) EllapsedTime: 46.0 seconds RetCode: 0 Status: OK CheckDir: BiocVersion.Rcheck Warnings: 0