Package: BiocStyle Version: 2.32.1 Command: /Library/Frameworks/R.framework/Resources/bin/R CMD build --keep-empty-dirs --no-resave-data BiocStyle StartedAt: 2024-10-16 20:23:19 -0400 (Wed, 16 Oct 2024) EndedAt: 2024-10-16 20:23:35 -0400 (Wed, 16 Oct 2024) EllapsedTime: 16.1 seconds RetCode: 0 Status: OK PackageFile: BiocStyle_2.32.1.tar.gz PackageFileSize: 772.7 KiB