Package: BiocPkgTools Version: 1.22.0 Command: /Library/Frameworks/R.framework/Resources/bin/R CMD build --keep-empty-dirs --no-resave-data BiocPkgTools StartedAt: 2024-10-16 17:26:02 -0400 (Wed, 16 Oct 2024) EndedAt: 2024-10-16 17:30:45 -0400 (Wed, 16 Oct 2024) EllapsedTime: 283.2 seconds RetCode: 0 Status: OK PackageFile: BiocPkgTools_1.22.0.tar.gz PackageFileSize: 1.442 MiB