Package: BiSeq Version: 1.44.0 Command: /Library/Frameworks/R.framework/Resources/bin/R CMD check --install=check:BiSeq.install-out.txt --library=/Library/Frameworks/R.framework/Resources/library --no-vignettes --timings BiSeq_1.44.0.tar.gz StartedAt: 2024-10-17 01:57:23 -0400 (Thu, 17 Oct 2024) EndedAt: 2024-10-17 02:10:24 -0400 (Thu, 17 Oct 2024) EllapsedTime: 780.9 seconds RetCode: 0 Status: OK CheckDir: BiSeq.Rcheck Warnings: 0