Package: BiFET Version: 1.24.0 Command: rm -rf BiFET.buildbin-libdir && mkdir BiFET.buildbin-libdir && E:\biocbuild\bbs-3.19-bioc\R\bin\R.exe CMD INSTALL --build --library=BiFET.buildbin-libdir BiFET_1.24.0.tar.gz StartedAt: 2024-10-17 07:23:48 -0400 (Thu, 17 Oct 2024) EndedAt: 2024-10-17 07:24:01 -0400 (Thu, 17 Oct 2024) EllapsedTime: 13.8 seconds RetCode: 0 Status: OK PackageFile: BiFET_1.24.0.zip PackageFileSize: 663.5 KiB