Package: BiFET Version: 1.24.0 Command: chmod a+r BiFET -R && F:\biocbuild\bbs-3.19-bioc\R\bin\R.exe CMD build --keep-empty-dirs --no-resave-data BiFET StartedAt: 2024-06-26 17:19:31 -0400 (Wed, 26 Jun 2024) EndedAt: 2024-06-26 17:21:51 -0400 (Wed, 26 Jun 2024) EllapsedTime: 140.5 seconds RetCode: 0 Status: OK PackageFile: BiFET_1.24.0.tar.gz PackageFileSize: 644.2 KiB