Package: BiFET Version: 1.24.0 Command: rm -rf BiFET.buildbin-libdir && mkdir BiFET.buildbin-libdir && /Users/biocbuild/BBS/utils/build-universal.sh BiFET_1.24.0.tar.gz /Library/Frameworks/R.framework/Resources/bin/R BiFET.buildbin-libdir StartedAt: 2024-06-11 10:17:28 -0400 (Tue, 11 Jun 2024) EndedAt: 2024-06-11 10:17:49 -0400 (Tue, 11 Jun 2024) EllapsedTime: 20.9 seconds RetCode: 0 Status: OK PackageFile: BiFET_1.24.0.tgz PackageFileSize: 660.5 KiB