Package: BgeeDB Version: 2.30.2 Command: /home/biocbuild/bbs-3.19-bioc/R/bin/R CMD check --install=check:BgeeDB.install-out.txt --library=/home/biocbuild/bbs-3.19-bioc/R/site-library --timings BgeeDB_2.30.2.tar.gz StartedAt: 2024-10-16 21:58:38 -0400 (Wed, 16 Oct 2024) EndedAt: 2024-10-16 22:27:11 -0400 (Wed, 16 Oct 2024) EllapsedTime: 1712.7 seconds RetCode: 0 Status: OK CheckDir: BgeeDB.Rcheck Warnings: 0