Package: BayesSpace Version: 1.14.0 Command: /Library/Frameworks/R.framework/Resources/bin/R CMD build --keep-empty-dirs --no-resave-data BayesSpace StartedAt: 2024-10-16 17:13:38 -0400 (Wed, 16 Oct 2024) EndedAt: 2024-10-16 17:19:38 -0400 (Wed, 16 Oct 2024) EllapsedTime: 359.6 seconds RetCode: 0 Status: OK PackageFile: BayesSpace_1.14.0.tar.gz PackageFileSize: 1.616 MiB