Package: BUSseq Version: 1.10.0 Command: E:\biocbuild\bbs-3.19-bioc\R\bin\R.exe CMD check --no-multiarch --install=check:BUSseq.install-out.txt --library=E:\biocbuild\bbs-3.19-bioc\R\library --no-vignettes --timings BUSseq_1.10.0.tar.gz StartedAt: 2024-10-16 23:34:23 -0400 (Wed, 16 Oct 2024) EndedAt: 2024-10-16 23:41:08 -0400 (Wed, 16 Oct 2024) EllapsedTime: 405.0 seconds RetCode: 0 Status: OK CheckDir: BUSseq.Rcheck Warnings: 0