Package: BUMHMM Version: 1.28.0 Command: E:\biocbuild\bbs-3.19-bioc\R\bin\R.exe CMD INSTALL BUMHMM StartedAt: 2024-10-16 16:52:32 -0400 (Wed, 16 Oct 2024) EndedAt: 2024-10-16 16:53:05 -0400 (Wed, 16 Oct 2024) EllapsedTime: 32.2 seconds RetCode: 0 Status: OK