Package: BUMHMM Version: 1.28.0 Command: rm -rf BUMHMM.buildbin-libdir && mkdir BUMHMM.buildbin-libdir && /Users/biocbuild/BBS/utils/build-universal.sh BUMHMM_1.28.0.tar.gz /Library/Frameworks/R.framework/Resources/bin/R BUMHMM.buildbin-libdir StartedAt: 2024-10-18 17:36:30 -0400 (Fri, 18 Oct 2024) EndedAt: 2024-10-18 17:37:03 -0400 (Fri, 18 Oct 2024) EllapsedTime: 33.8 seconds RetCode: 0 Status: OK PackageFile: BUMHMM_1.28.0.tgz PackageFileSize: 750.6 KiB