Package: BSgenomeForge Version: 1.4.1 Command: /home/biocbuild/bbs-3.19-bioc/R/bin/R CMD build --keep-empty-dirs --no-resave-data BSgenomeForge StartedAt: 2024-10-16 17:24:22 -0400 (Wed, 16 Oct 2024) EndedAt: 2024-10-16 17:25:14 -0400 (Wed, 16 Oct 2024) EllapsedTime: 52.1 seconds RetCode: 0 Status: OK PackageFile: BSgenomeForge_1.4.1.tar.gz PackageFileSize: 453.4 KiB