Package: BREW3R.r Version: 1.0.1 Command: E:\biocbuild\bbs-3.19-bioc\R\bin\R.exe CMD check --no-multiarch --install=check:BREW3R.r.install-out.txt --library=E:\biocbuild\bbs-3.19-bioc\R\library --no-vignettes --timings BREW3R.r_1.0.1.tar.gz StartedAt: 2024-10-16 23:30:54 -0400 (Wed, 16 Oct 2024) EndedAt: 2024-10-16 23:33:30 -0400 (Wed, 16 Oct 2024) EllapsedTime: 155.9 seconds RetCode: 0 Status: OK CheckDir: BREW3R.r.Rcheck Warnings: 0