Package: BREW3R.r Version: 1.0.1 Command: chmod a+r BREW3R.r -R && E:\biocbuild\bbs-3.19-bioc\R\bin\R.exe CMD build --keep-empty-dirs --no-resave-data BREW3R.r StartedAt: 2024-10-16 17:58:29 -0400 (Wed, 16 Oct 2024) EndedAt: 2024-10-16 17:59:14 -0400 (Wed, 16 Oct 2024) EllapsedTime: 45.8 seconds RetCode: 0 Status: OK PackageFile: BREW3R.r_1.0.1.tar.gz PackageFileSize: 1.809 MiB