Package: BREW3R.r Version: 1.0.1 Command: rm -rf BREW3R.r.buildbin-libdir && mkdir BREW3R.r.buildbin-libdir && E:\biocbuild\bbs-3.19-bioc\R\bin\R.exe CMD INSTALL --build --library=BREW3R.r.buildbin-libdir BREW3R.r_1.0.1.tar.gz StartedAt: 2024-10-17 07:27:23 -0400 (Thu, 17 Oct 2024) EndedAt: 2024-10-17 07:27:44 -0400 (Thu, 17 Oct 2024) EllapsedTime: 21.5 seconds RetCode: 0 Status: OK PackageFile: BREW3R.r_1.0.1.zip PackageFileSize: 1.842 MiB