Package: BREW3R.r Version: 1.0.1 Command: /Library/Frameworks/R.framework/Resources/bin/R CMD build --keep-empty-dirs --no-resave-data BREW3R.r StartedAt: 2024-10-16 20:40:53 -0400 (Wed, 16 Oct 2024) EndedAt: 2024-10-16 20:41:38 -0400 (Wed, 16 Oct 2024) EllapsedTime: 44.8 seconds RetCode: 0 Status: OK PackageFile: BREW3R.r_1.0.1.tar.gz PackageFileSize: 1.901 MiB