Package: BASiCStan Version: 1.6.0 Command: /home/biocbuild/R/R-beta-2024-04-15_r86425/bin/R CMD INSTALL BASiCStan StartedAt: 2024-05-08 21:02:50 -0000 (Wed, 08 May 2024) EndedAt: 2024-05-08 21:10:51 -0000 (Wed, 08 May 2024) EllapsedTime: 481.4 seconds RetCode: 0 Status: OK